BEGIN:VCALENDAR
VERSION:2.0
PRODID:-//WENONAH - ECPv6.15.20//NONSGML v1.0//EN
CALSCALE:GREGORIAN
METHOD:PUBLISH
X-WR-CALNAME:WENONAH
X-ORIGINAL-URL:https://wenonah.co
X-WR-CALDESC:Events for WENONAH
REFRESH-INTERVAL;VALUE=DURATION:PT1H
X-Robots-Tag:noindex
X-PUBLISHED-TTL:PT1H
BEGIN:VTIMEZONE
TZID:America/Chicago
BEGIN:DAYLIGHT
TZOFFSETFROM:-0600
TZOFFSETTO:-0500
TZNAME:CDT
DTSTART:20250309T080000
END:DAYLIGHT
BEGIN:STANDARD
TZOFFSETFROM:-0500
TZOFFSETTO:-0600
TZNAME:CST
DTSTART:20251102T070000
END:STANDARD
BEGIN:DAYLIGHT
TZOFFSETFROM:-0600
TZOFFSETTO:-0500
TZNAME:CDT
DTSTART:20260308T080000
END:DAYLIGHT
BEGIN:STANDARD
TZOFFSETFROM:-0500
TZOFFSETTO:-0600
TZNAME:CST
DTSTART:20261101T070000
END:STANDARD
BEGIN:DAYLIGHT
TZOFFSETFROM:-0600
TZOFFSETTO:-0500
TZNAME:CDT
DTSTART:20270314T080000
END:DAYLIGHT
BEGIN:STANDARD
TZOFFSETFROM:-0500
TZOFFSETTO:-0600
TZNAME:CST
DTSTART:20271107T070000
END:STANDARD
END:VTIMEZONE
BEGIN:VEVENT
DTSTART;VALUE=DATE:20260424
DTEND;VALUE=DATE:20260426
DTSTAMP:20260423T013256
CREATED:20260422T132937Z
LAST-MODIFIED:20260422T132937Z
UID:8123-1776988800-1777161599@wenonah.co
SUMMARY:Erickson Farmstead
DESCRIPTION:We’re so excited to be vendors at this beautiful farm market alongside 60+ artisans\, food trucks\, a beer & wine bar\, and free horse and wagon rides. It’s one of the best handcrafted shopping experiences in Minnesota — and we’d love to see you there! \nStop by the Wenonah table to explore our all-natural\, small-batch skin care and perfumes — lotions\, soaps\, deodorant\, lip balm\, body wash\, essential oils\, and more. Everything is handcrafted with love and packed plastic-free. \nLocation:\nErickson Farmstead\nIsanti\, MN
URL:https://wenonah.co/event/erickson-farmstead/
ATTACH;FMTTYPE=image/jpeg:https://wenonah.co/wp-content/uploads/Erickson-Farmstead.jpg
END:VEVENT
BEGIN:VEVENT
DTSTART;TZID=America/Chicago:20260509T100000
DTEND;TZID=America/Chicago:20260509T160000
DTSTAMP:20260423T013256
CREATED:20260401T153825Z
LAST-MODIFIED:20260401T153940Z
UID:7403-1778320800-1778342400@wenonah.co
SUMMARY:Midwest Music Fest
DESCRIPTION:We’re excited to participate in the 16th year of Midwest Music Fest at the wonderful Maker’s Market. The mission of the MWMF is to promote music and art in the region\, creating opportunities for artists\, stimulating downtown economic development\, and providing diverse educational resources for artists\, community members\, and children. Come be apart of the community!
URL:https://wenonah.co/event/midwest-music-fest/
LOCATION:Midwest Music Fest\, Levee Park\, Winona\, MN\, 55987\, United States
ATTACH;FMTTYPE=image/jpeg:https://wenonah.co/wp-content/uploads/MWMF.jpg
END:VEVENT
BEGIN:VEVENT
DTSTART;TZID=America/Chicago:20260613T100000
DTEND;TZID=America/Chicago:20260613T170000
DTSTAMP:20260423T013256
CREATED:20260401T143234Z
LAST-MODIFIED:20260401T143944Z
UID:7396-1781344800-1781370000@wenonah.co
SUMMARY:ArtSpire
DESCRIPTION:Artspire is an all-inclusive\, free community art event that attracts\, engages and connects our diverse community through meaningful arts experiences\, including visual\, interactive\, performing\, literary arts and dance. Produced and funded by the Pump House Regional Arts Center\, sponsors and donors like you! \n 
URL:https://wenonah.co/event/artspire/
LOCATION:Artspire\, Riverside Park\, La Crosse\, WI\, United States
ATTACH;FMTTYPE=image/jpeg:https://wenonah.co/wp-content/uploads/Artspire.jpg
END:VEVENT
BEGIN:VEVENT
DTSTART;VALUE=DATE:20260620
DTEND;VALUE=DATE:20260622
DTSTAMP:20260423T013256
CREATED:20260417T225911Z
LAST-MODIFIED:20260417T225911Z
UID:8094-1781913600-1782086399@wenonah.co
SUMMARY:Stone Arch Bridge Festival
DESCRIPTION:Recognized! The festival hosts 200+ top artists from across the US. Categories include photography\, painting\, jewelry\, sculpture\, woodworking\, ceramics\, printmaking\, glass\, and fine crafts. Sunshine Artist magazine\, www.sunshineartist.com\, has announced the release of its 2025 200 Best\, ranking the most profitable art and craft festivals in the country based on artists’ reported sales in 2024. Stone Arch Bridge Festival made the list again!
URL:https://wenonah.co/event/stone-arch-bridge-festival/
ATTACH;FMTTYPE=image/jpeg:https://wenonah.co/wp-content/uploads/Stone-Arch-Bridge-Festival.jpg
END:VEVENT
BEGIN:VEVENT
DTSTART;VALUE=DATE:20260627
DTEND;VALUE=DATE:20260629
DTSTAMP:20260423T013256
CREATED:20260127T152236Z
LAST-MODIFIED:20260127T173635Z
UID:6273-1782518400-1782691199@wenonah.co
SUMMARY:Twin Cities Pride Festival
DESCRIPTION:BOOTH #654\nWe are excited to attend the Twin Cities Pride Festival on June 27-28\, 2026 at Loring Park in Minneapolis. As one of over 650 vendors at Minnesota’s largest free Pride festival\, I’ll have small-batch botanical body care formulated for your daily rituals. Stop by\, say hello\, and discover indie skincare that honors who you are—every single day.
URL:https://wenonah.co/event/twin-cities-pride/
LOCATION:Twin Cities Pride\, Loring Park\, 1382 Willow Street\, Minneapolis\, 55403\, United States
ATTACH;FMTTYPE=image/jpeg:https://wenonah.co/wp-content/uploads/TC-Pride-2026.jpg
END:VEVENT
BEGIN:VEVENT
DTSTART;VALUE=DATE:20260703
DTEND;VALUE=DATE:20260705
DTSTAMP:20260423T013256
CREATED:20260417T235751Z
LAST-MODIFIED:20260418T001733Z
UID:8101-1783036800-1783209599@wenonah.co
SUMMARY:Taste of Minnesota
DESCRIPTION:Celebrate Minnesota\n\n\nWe’re turning up the volume on everything that makes Minnesota shine! From crave-worthy food vendors and standout local businesses to talented artists\, inspired makers\, and an all-star lineup of homegrown music\, Taste of Minnesota 2026 is taking over downtown Minneapolis. \n​Friday\, July 3 | 4:00 PM – 10:00 PMSaturday\, July 4 | 12:00 PM – 10:00 PM \n​Bring your appetite. Bring your crew. Stay all day. \nDive into bold flavors\, discover one-of-a-kind finds\, and dance to the sounds of Minnesota’s best performers as the city comes alive for two unforgettable days. Fire up your Fourth of July weekend with nonstop bites\, beats\, and high-energy fun that captures the spirit of the North Star State. \nThis isn’t just a stop on your holiday calendar – it’s the destination. \nCelebrate local. Celebrate loud. Celebrate Minnesota.
URL:https://wenonah.co/event/taste-of-minnesota/
ATTACH;FMTTYPE=image/jpeg:https://wenonah.co/wp-content/uploads/Taste-of-Minnesota-1.jpg
END:VEVENT
BEGIN:VEVENT
DTSTART;VALUE=DATE:20260711
DTEND;VALUE=DATE:20260713
DTSTAMP:20260423T013256
CREATED:20260418T001918Z
LAST-MODIFIED:20260418T001918Z
UID:8104-1783728000-1783900799@wenonah.co
SUMMARY:Square Roots
DESCRIPTION:A Real Nice Chicago Street Fest! \nSquare Roots brings together the best of Lincoln Square\, Chicago\, and beyond\, with a great lineup of live music\, family fun\, local restaurants and vendors\, local craft beer\, cocktails and much more! Join the fun and support non-profit organizations Lincoln Square Ravenswood Chamber of Commerce and Old Town School Of Folk Music. \nYour Gate Donations Matter! Please consider a donation to help Square Roots continue and support the work of Old Town School of Folk Music and Lincoln Square Ravenswood Chamber of Commerce. Your donations support music scholarships\, farmers markets\, holiday decorations\, street planters\, artist residencies in public schools… and festivals like Square Roots!
URL:https://wenonah.co/event/square-roots/
ATTACH;FMTTYPE=image/jpeg:https://wenonah.co/wp-content/uploads/Square-Roots-2.jpg
END:VEVENT
BEGIN:VEVENT
DTSTART;VALUE=DATE:20260717
DTEND;VALUE=DATE:20260720
DTSTAMP:20260423T013256
CREATED:20260417T224005Z
LAST-MODIFIED:20260417T224233Z
UID:8090-1784246400-1784505599@wenonah.co
SUMMARY:Minnehaha Falls Art Fair
DESCRIPTION:One of the nation’s top-ranked art fairs\, set against the backdrop of Minneapolis’ iconic 53-foot waterfall. Minnehaha Falls Art Fair has been voted #5 Best Art Fair in the Nation two years running and draws over 850\,000 visitors annually to the park. \nWenonah will be among approximately 275 artists showcasing their work across a full weekend of art\, music\, food\, and community. All booths are required to offer items under $30\, and the event is zero waste — fully aligned with our plastic-free packaging commitment. \nMinnehaha Falls Art Fair Minnehaha Falls Park\, Minneapolis\, MN Friday 3–8pm · Saturday 10am–7pm · Sunday 10am–5pm \n\n\n\n\n\n\n\n\n\n\n\n\n\n\n\n\n\n\n\n\n\n\n\n\n\n\n\n\n\n\n\n\n\n\n\n\n\n\n\n\n\n\n\n\n\n\n\n\n \n\n\n\n\n\n\n\n\n\n\n\n\n\n\n\n\n\n\n\n\n\n\n\nSonnet 4.6\n\n\n\n\n\n\n\n\n\n\n\n\n\n\n\n\n\n\n\n\n\n\n\n\nClaude is AI and can make mistakes. Please double-check responses.
URL:https://wenonah.co/event/minnehaha-falls-art-fair/
LOCATION:Minnehaha Falls
ATTACH;FMTTYPE=image/jpeg:https://wenonah.co/wp-content/uploads/Minnehaha-Falls-Art-Fair-1.jpg
END:VEVENT
BEGIN:VEVENT
DTSTART;VALUE=DATE:20260724
DTEND;VALUE=DATE:20260727
DTSTAMP:20260423T013256
CREATED:20260120T205415Z
LAST-MODIFIED:20260130T034810Z
UID:6031-1784851200-1785110399@wenonah.co
SUMMARY:Blueberry Art Festival
DESCRIPTION:We are excited to announce the 46th annual Blueberry Art Festival slated for July 24-26\, 2026.  The event draws 30\,000 to 40\,000 festival-goers annually across the three-day event.  The festival features 237 booths filled with artists and crafters\, 25 food vendors\, a beer garden\, and freshly baked blueberry pies. \nWe have many returning artists\, crafters\, makers\, and exciting new ones.  You will find it at this year’s festival if you are looking for watercolor or acrylic art\, pottery\, woodcraft\, or something unique or unusual.  We mentioned food.  Those sumptuous blueberry pies and delicious burgers\, brats\, and pork chops are back on a stick.  Of course\, there is seafood\, kettle corn\, and refreshing beverages – did we mention waffles too? \nWe need to mention our Operation Blueberry event happening in our business community.  Operation Blueberry runs from July 25 to July 28. Watch for the Operation Blueberry map\, which we will post on Friday\, July 19\, 2024. \nSince there is too much to do in one day\, why not enjoy Operation Blueberry\, visit our local attractions one day\, and return to the festival for the second day of fun\, food\, and exciting arts and crafts?
URL:https://wenonah.co/event/blueberry-art-festival/
LOCATION:Blueberry Festival\, Whiteside Park\, 58 S 7th Ave E\, Ely\, MN\, Ely\, MN\, 55731\, United States
ATTACH;FMTTYPE=image/jpeg:https://wenonah.co/wp-content/uploads/Ely-Blueberry-Art-Festival.jpg
END:VEVENT
BEGIN:VEVENT
DTSTART;VALUE=DATE:20260807
DTEND;VALUE=DATE:20260809
DTSTAMP:20260423T013256
CREATED:20260221T165700Z
LAST-MODIFIED:20260221T165700Z
UID:7043-1786060800-1786233599@wenonah.co
SUMMARY:Ashley For The Arts
DESCRIPTION:Ashley for the Arts is a two-day outdoor music and arts festival held each August at Memorial Park in Arcadia\, Wisconsin\, created and hosted by Ashley Furniture Industries. It’s a nonprofit\, family-friendly event that combines national headlining concerts\, multiple side stages\, and an extensive art and craft fair with interactive art spaces\, kids’ activities\, and a large inflatable air park. The festival also features hot air balloon displays\, fireworks\, roaming street performers\, and a wide variety of food and beverage vendors\, all offered at a relatively low admission cost. As one of Wisconsin’s largest charity events\, Ashley for the Arts has donated millions of dollars to schools\, children’s causes\, medical research\, and local nonprofits while drawing tens of thousands of visitors each year to enjoy music\, art\, and community.
URL:https://wenonah.co/event/ashley-for-the-arts/
LOCATION:Ashley for the Arts\, 551 Memorial Park Drive\, Arcadia\, Wisconsin\, 54612
ATTACH;FMTTYPE=image/jpeg:https://wenonah.co/wp-content/uploads/Ashley-for-the-Arts.jpg
END:VEVENT
BEGIN:VEVENT
DTSTART;VALUE=DATE:20260918
DTEND;VALUE=DATE:20260921
DTSTAMP:20260423T013256
CREATED:20260221T164314Z
LAST-MODIFIED:20260418T003055Z
UID:7039-1789689600-1789948799@wenonah.co
SUMMARY:Grape Stomp Festival
DESCRIPTION:Carlos Creek Winery’s Grape Stomp is a high‑energy\, three‑day fall festival in Alexandria\, Minnesota\, built around grape‑stomping competitions\, live music\, and craft beverages. Billed as Minnesota’s largest wine festival and one of the largest grape stomps in the Midwest\, it draws more than 15\,000 attendees each year. \nGuests can watch or join team grape‑stomping contests\, enjoy over a dozen live music acts across multiple stages\, and sip award‑winning wine\, beer\, cider\, and nonalcoholic drinks. The festival also features food trucks\, more than 100 juried art and market vendors\, costume themes\, and a mix of adults‑only days and a family‑friendly Sunday\, making it a signature autumn weekend in Minnesota wine country.
URL:https://wenonah.co/event/grape-stomp-festival/
LOCATION:Carlos Creek Winery\, 6693 County Road 34 NW\, Alexandria\, Minnesota\, 56308
ATTACH;FMTTYPE=image/jpeg:https://wenonah.co/wp-content/uploads/Grape-Stomp-Festival-1.jpg
END:VEVENT
BEGIN:VEVENT
DTSTART;VALUE=DATE:20260925
DTEND;VALUE=DATE:20260928
DTSTAMP:20260423T013256
CREATED:20260221T153404Z
LAST-MODIFIED:20260221T153404Z
UID:7032-1790294400-1790553599@wenonah.co
SUMMARY:Warrens Cranberry Festival
DESCRIPTION:Warrens Cranberry Festival is a large\, three‑day celebration held each fall in Warrens\, Wisconsin\, dedicated to the region’s cranberry heritage and small‑town community spirit. The event features hundreds of arts and crafts vendors\, a massive flea and farmers market\, and countless cranberry‑themed foods and products. Visitors can enjoy parades\, contests\, and special events\, all set against the backdrop of peak cranberry harvest season. It’s a bustling\, family‑friendly festival that draws visitors from across the Midwest to explore\, shop\, eat\, and experience cranberry country at its busiest and most colorful.
URL:https://wenonah.co/event/warrens-cranberry-festival/
LOCATION:Warrens Cranberry Festival\, Warrens\, Wisconsin
ATTACH;FMTTYPE=image/jpeg:https://wenonah.co/wp-content/uploads/Warrens-Cranberry-Fest-2026.jpg
END:VEVENT
BEGIN:VEVENT
DTSTART;VALUE=DATE:20261003
DTEND;VALUE=DATE:20261005
DTSTAMP:20260423T013256
CREATED:20260221T160311Z
LAST-MODIFIED:20260418T002439Z
UID:7035-1790985600-1791158399@wenonah.co
SUMMARY:Eagle River Cranberry Festival
DESCRIPTION:Eagle River Cranberry Fest is a lively fall celebration held the first weekend in October in Eagle River\, Wisconsin\, honoring the cranberry harvest and Northwoods community spirit. Centered at the Vilas County Fairgrounds with additional activities downtown\, the festival draws tens of thousands of visitors each year. Guests can browse hundreds of arts and crafts and farmers market booths\, sample a wide range of cranberry-inspired foods and drinks\, and take marsh tours to see how cranberries are grown and harvested. Live entertainment\, special events\, and plenty of cranberry-themed goodies make it a family-friendly tradition and a popular autumn getaway in Wisconsin’s “cranberry country.” \nBooth#: J27
URL:https://wenonah.co/event/eagle-river-cranberry-festival/
LOCATION:Eagle River Cranberry Festival\, Eagle River\, Wisconsin
ATTACH;FMTTYPE=image/jpeg:https://wenonah.co/wp-content/uploads/Eagle-River-Cranberry-Festival.jpg
END:VEVENT
BEGIN:VEVENT
DTSTART;VALUE=DATE:20261121
DTEND;VALUE=DATE:20261215
DTSTAMP:20260423T013256
CREATED:20260116T161631Z
LAST-MODIFIED:20260401T150843Z
UID:5957-1795219200-1797292799@wenonah.co
SUMMARY:European Christmas Market
DESCRIPTION:A holiday tradition in the heart of Saint Paul\, MN at Union Depot in St. Paul. European Christmas Market provides a cultural event that will entertain the whole family and familiarize them with 500-year-old world traditions and culture. \nThe event creates an ambiance and celebration—to bring light to the dark of winter and add to the goodwill of the Christmas spirit. You’ll experience the enticing aromas of Glühwein\, roasted nuts\, sizzling sausages\, and other treats The European Christmas Market is the most authentic traditional holiday market of its kind in Minnesota\, offering a unique shopping experience\, family-friendly entertainment & intercultural activities. It is an admission-free public event based on the festive open-air Christkindl Markets that spring up in Germany\, Austria\, and other European countries during the Advent season. \nShop for handmade European crafts or unique gifts from local vendors\, drink Glühwein (spiced mulled wine)\, and taste European inspired delicacies during four weekends in November and December. The European Christmas Market features 70 vendors\, live entertainment and a wonderful Holiday Train and Carousel. Our visitors enjoy gift shopping\, lots of European style food and kids craft activities. \nMarket Dates:\n1st Weekend: Nov 21 – 23\n2nd Weekend: Nov 27 – 29\n3rd Weekend: Dec 4 – 6\n4th Weekend: Dec 11 – 13\n5th Weekend: Dec 18 – 20 \nFridays: 4pm – 9pm\nSaturdays: 11am – 9pm\nSundays : 11am – 6pm
URL:https://wenonah.co/event/european-christmas-market/
LOCATION:St. Paul Union Depot\, 204 E. Kellog Blvd.\, St. Paul\, MN\, 55101\, United States
ATTACH;FMTTYPE=image/jpeg:https://wenonah.co/wp-content/uploads/St.-Paul-European-Christmas-Market.jpg
END:VEVENT
END:VCALENDAR